BEGIN:VCALENDAR
VERSION:2.0
PRODID:-//NAMI Greater Houston - ECPv6.15.16.1//NONSGML v1.0//EN
CALSCALE:GREGORIAN
METHOD:PUBLISH
X-WR-CALNAME:NAMI Greater Houston
X-ORIGINAL-URL:https://namigreaterhouston.org
X-WR-CALDESC:Events for NAMI Greater Houston
REFRESH-INTERVAL;VALUE=DURATION:PT1H
X-Robots-Tag:noindex
X-PUBLISHED-TTL:PT1H
BEGIN:VTIMEZONE
TZID:UTC
BEGIN:STANDARD
TZOFFSETFROM:+0000
TZOFFSETTO:+0000
TZNAME:UTC
DTSTART:20250101T000000
END:STANDARD
END:VTIMEZONE
BEGIN:VEVENT
DTSTART;TZID=UTC:20260516T073000
DTEND;TZID=UTC:20260516T140000
DTSTAMP:20260421T095544
CREATED:20260114T143319Z
LAST-MODIFIED:20260407T182151Z
UID:2053-1778916600-1778940000@namigreaterhouston.org
SUMMARY:2026 NAMIWalks Greater Houston
DESCRIPTION:NAMIWalks is NAMI’s oldest signature fundraising program and enters 2026 as one of the nation’s Top 30 Peer-to-Peer events for the fifth consecutive year. After raising a record $15.8 million and engaging 8\,859 teams\, NAMIWalks continues to unite communities nationwide through more than 190 Walks hosted by NAMI State Organizations and Affiliates. United by our unique experiences\, journeys\, and stories\, NAMIWalks is a powerful celebration of individuals living with mental illness\, their families\, loved ones\, and the communities that support them. \nView our sponsor brochure \nREGISTER TODAY\n 
URL:https://namigreaterhouston.org/event/2026-namiwalks-greater-houston/
LOCATION:Sam Houston Park Downtown\, 900 Bagby St\, Houston\, TX\, 77002\, United States
CATEGORIES:Annual
ATTACH;FMTTYPE=image/webp:https://namigreaterhouston.org/wp-content/uploads/2020/09/NAMIWalksGH2014.webp
ORGANIZER;CN="NAMI Staff":MAILTO:namigh@namigreaterhouston.org
END:VEVENT
BEGIN:VEVENT
DTSTART;VALUE=DATE:20260528
DTEND;VALUE=DATE:20260531
DTSTAMP:20260421T095544
CREATED:20260114T143631Z
LAST-MODIFIED:20260408T154824Z
UID:28784-1779926400-1780185599@namigreaterhouston.org
SUMMARY:2026 NAMI National Convention
DESCRIPTION:NAMICon brings together hundreds of voices from across the country to advance mental health for all through awareness\, education\, and advocacy. Returning in person May 28–30\, 2026\, in Atlanta\, NAMICon creates space for personal stories\, community leadership\, and innovative ideas to spark connection\, inspire action\, and strengthen hope and healing. NAMICon 2026 invites individuals with lived experience\, advocates\, and professionals to turn insight into impact and help shape a more compassionate mental health future. \nVisit here for more information: https://www.nami.org/stay-connected/events/attend-the-nami-national-convention/
URL:https://namigreaterhouston.org/event/2026-nami-national-convention/
CATEGORIES:Annual
ATTACH;FMTTYPE=image/png:https://namigreaterhouston.org/wp-content/uploads/2026/01/namicon-2026.png
ORGANIZER;CN="NAMI Staff":MAILTO:namigh@namigreaterhouston.org
END:VEVENT
BEGIN:VEVENT
DTSTART;VALUE=DATE:20260821
DTEND;VALUE=DATE:20260823
DTSTAMP:20260421T095544
CREATED:20260114T143922Z
LAST-MODIFIED:20260408T153437Z
UID:28788-1787270400-1787443199@namigreaterhouston.org
SUMMARY:2026 Pathways to Hope Conference
DESCRIPTION:NAMI Pathways to Hope Conference brings together individuals and communities committed to breaking the stigma surrounding mental health. The conference creates a welcoming space where mental health and faith intersect\, fostering connection\, shared understanding\, and hope. Featuring national plenary sessions and locally curated workshops led by 19 NAMI State Organizations and Affiliates\, Pathways to Hope highlights the vital role of faith and spirituality in supporting mental wellness and strengthening communities. \n\nRead the Pathways to Hope Story
URL:https://namigreaterhouston.org/event/2026-pathways-to-hope-conference/
CATEGORIES:Annual
ATTACH;FMTTYPE=image/png:https://namigreaterhouston.org/wp-content/uploads/2026/02/Pathways-To-Hope-reminders-2026.png
ORGANIZER;CN="NAMI Staff":MAILTO:namigh@namigreaterhouston.org
END:VEVENT
BEGIN:VEVENT
DTSTART;TZID=UTC:20260918T180000
DTEND;TZID=UTC:20260919T210000
DTSTAMP:20260421T095544
CREATED:20260114T144218Z
LAST-MODIFIED:20260408T152226Z
UID:28790-1789754400-1789851600@namigreaterhouston.org
SUMMARY:2026 Healing In Style: Bold & Beautiful (Co-Sponsored by Porsche)
DESCRIPTION:Healing In Style: Bold & Beautiful is a signature charity fundraiser benefiting NAMI Greater Houston\, bringing together community and business leaders in support of mental health initiatives. Taking place on September 18\, 2026\, at Porsche Sugar Land\, the event will feature Mental Health Service Awards honoring local champions\, a fireside chat centered on self-care and resilience\, a luxury silent auction\, and an evening of live music and stylish networking. All proceeds will support NAMI Greater Houston’s mission to provide help\, advocacy\, and hope for individuals and families affected by mental illness.
URL:https://namigreaterhouston.org/event/2026-healing-in-style-bold-beautiful/
LOCATION:Porsche Sugar Land\, 13426 Southwest Fwy\, Sugar Land\, TX\, 77478\, United States
CATEGORIES:Annual
ATTACH;FMTTYPE=image/png:https://namigreaterhouston.org/wp-content/uploads/2026/02/HWS-New-Date.png
ORGANIZER;CN="NAMI Staff":MAILTO:namigh@namigreaterhouston.org
END:VEVENT
BEGIN:VEVENT
DTSTART;TZID=UTC:20261010T090000
DTEND;TZID=UTC:20261010T120000
DTSTAMP:20260421T095544
CREATED:20260114T144554Z
LAST-MODIFIED:20260408T221329Z
UID:28795-1791622800-1791633600@namigreaterhouston.org
SUMMARY:2026 NAMI Greater Houston Annual Meeting
DESCRIPTION:Mark your calendars! NAMI Greater Houston invites you to our Annual Membership Meeting on Saturday\, October 10th from 9:00 AM – 12:00 PM. Come enjoy brunch while we celebrate Special Recognitions\, Mental Health Service Awards\, and a Salute to NAMI Teachers. Don’t miss this exciting opportunity to connect\, learn\, and celebrate with us!
URL:https://namigreaterhouston.org/event/2026-nami-greater-houston-annual-meeting/
LOCATION:St. Paul’s United Methodist Church\, 5501 Main St\, Houston\, TX\, 77004\, United States
CATEGORIES:Annual
ATTACH;FMTTYPE=image/webp:https://namigreaterhouston.org/wp-content/uploads/2026/01/Annual-Membership-Meeting-Date-Flyer.webp
ORGANIZER;CN="NAMI Staff":MAILTO:namigh@namigreaterhouston.org
END:VEVENT
BEGIN:VEVENT
DTSTART;TZID=UTC:20261212T100000
DTEND;TZID=UTC:20261212T140000
DTSTAMP:20260421T095544
CREATED:20260114T151816Z
LAST-MODIFIED:20260408T153116Z
UID:28807-1797069600-1797084000@namigreaterhouston.org
SUMMARY:2026 NAMI Greater Houston Volunteer Appreciation
DESCRIPTION:NAMI Greater Houston honors and celebrates its volunteers through meaningful recognition that highlights the essential role they play in advancing mental wellness across the community. From formal awards and public acknowledgments to sponsor recognition and community shout-outs\, NAMI Greater Houston consistently uplifts the individuals and partners whose dedication fuels its programs\, support groups\, classes\, and outreach—reinforcing that volunteers are at the heart of its mission.
URL:https://namigreaterhouston.org/event/2026-nami-greater-houston-volunteer-appreciation/
LOCATION:The Harris Center Southwest Community Service Center\, 9401 Southwest Fwy\, Houston\, TX\, 77074\, United States
CATEGORIES:Annual
ATTACH;FMTTYPE=image/jpeg:https://namigreaterhouston.org/wp-content/uploads/2020/09/give-17.jpg
ORGANIZER;CN="NAMI Staff":MAILTO:namigh@namigreaterhouston.org
END:VEVENT
END:VCALENDAR